BEGIN:VCALENDAR
VERSION:2.0
PRODID:-//ExpressionEngine Easy iCalendar plugin//NONSGML v1.1.1//EN
BEGIN:VEVENT
UID:event
LOCATION:Jerome Greene Hall (Law School)\, Jerome Greene Annex
DTSTAMP:20210221T33100Z
DTSTART;TZID=America/New_York:20191204T181500
DTEND;TZID=America/New_York:
SUMMARY:6/13 | MICHEL FOUCAULT\, LES AVEUX DE LA CHAIR
DESCRIPTION:In Critique 13/13\, we turn to 13 critical texts—ranging fr
 om Althusser\, Beauvoir\, Foucault\, and Freire to Adorno\, Aren
 dt\, Sartre\, Lorde\, and Said.
END:VEVENT
END:VCALENDAR