BEGIN:VCALENDAR
VERSION:2.0
PRODID:-//ExpressionEngine Easy iCalendar plugin//NONSGML v1.1.1//EN
BEGIN:VEVENT
UID:event
LOCATION:\, Frankfurt Time\, at the Goethe-Universität Frankfurt am Ma
 in
DTSTAMP:20210221T33700Z
DTSTART;TZID=America/New_York:20191218T180000
DTEND;TZID=America/New_York:
SUMMARY:7/13 | THEODOR ADORNO\, NEGATIVE DIALECTICS
DESCRIPTION:In Critique 13/13\, we turn to 13 critical texts—ranging fr
 om Althusser\, Beauvoir\, Foucault\, and Freire to Adorno\, Aren
 dt\, Sartre\, Lorde\, and Said.
END:VEVENT
END:VCALENDAR