BEGIN:VCALENDAR
VERSION:2.0
PRODID:-//ExpressionEngine Easy iCalendar plugin//NONSGML v1.1.1//EN
BEGIN:VEVENT
UID:event
LOCATION:Jerome Greene Hall (Law School)\, Jerome Greene Annex
DTSTAMP:20210221T33200Z
DTSTART;TZID=America/New_York:20191021T163000
DTEND;TZID=America/New_York:
SUMMARY:Global Think-in: The Code of Capital
DESCRIPTION:Global Think-ins are vehicles for generating new ideas and p
 erspectives on issues of global concern.
END:VEVENT
END:VCALENDAR