BEGIN:VCALENDAR
VERSION:2.0
PRODID:-//ExpressionEngine Easy iCalendar plugin//NONSGML v1.1.1//EN
BEGIN:VEVENT
UID:event
LOCATION:The Heyman Center\, Second Floor Common Room
DTSTAMP:20210221T32700Z
DTSTART;TZID=America/New_York:20191113T140000
DTEND;TZID=America/New_York:
SUMMARY:The Immanence of Truths: Graduate Workshops with Alain Badio
 u
DESCRIPTION:This graduate student workshop at Columbia University celebr
 ates the publication of Alain Badiou’s major new work\, The
  Immanence of Truths [L’Immanence des vérités (Paris: Fa
 yard\, 2018)]\, offering a unique\, early glimpse of the work t
 o an English-speaking audience. The workshop will include sh
 ort introductory talks discussing different aspects of the b
 ook\, which will be given by Jelica Sumic Riha\, Norman Madara
 sz\, and Jana Ndiaye Berankova. Introductory remarks will be 
 followed by a discussion with students based on primary text
 s and excerpts from the unpublished translation of The Imman
 ence of Truths.
END:VEVENT
END:VCALENDAR