BEGIN:VCALENDAR
VERSION:2.0
PRODID:-//ExpressionEngine Easy iCalendar plugin//NONSGML v1.1.1//EN
BEGIN:VEVENT
UID:event
LOCATION:The Italian Academy
DTSTAMP:20210221T33000Z
DTSTART;TZID=America/New_York:20200420T181500
DTEND;TZID=America/New_York:
SUMMARY:Beethoven’s Literary Afterlife\, with Chad Hoopes - CANCELL
 ED
DESCRIPTION:How did Beethoven influence the other arts? And how did lite
 rature shape the composer’s reputation? In an exploration 
 of Beethoven’s literary afterlife through the lens of cham
 ber performance\, this event will examine the formation of a 
 musical legacy. The event will feature faculty lectures by p
 rofessors Nicholas Dames (Columbia)\, Arden Hegele (Columbia)
 \, and Nicholas Chong (Rutgers)\, as well as a performance of 
 Beethoven’s violin sonata no. 7 (Op. 30\, no. 2) by Chad Ho
 opes and Anne-Marie McDermott.
END:VEVENT
END:VCALENDAR