BEGIN:VCALENDAR
VERSION:2.0
PRODID:-//ExpressionEngine Easy iCalendar plugin//NONSGML v1.1.1//EN
BEGIN:VEVENT
UID:event
LOCATION:Maison Francaise
DTSTAMP:20210221T33400Z
DTSTART;TZID=America/New_York:20190917T180000
DTEND;TZID=America/New_York:
SUMMARY:Expanding the World of Literature with Tash Aw
DESCRIPTION:How hard is it to remain within our comfort zones when we re
 ad and write? How does the writer’s gaze remain unwittingl
 y locked by long-established conventions? As the world’s e
 conomic power bases have begun to shift away from Western na
 tions of the past few decades\, writers from non-Western conv
 entions have begun to question the boundaries of literature\,
  using rapidly changing social structures to propose a new r
 elationship between reader and writer. Drawing from his new 
 novel\, We\, the Survivors\, Malaysian author Tash Aw discusse
 s ideas of language\, race\, class and national identity with 
 Mark Mazower.
END:VEVENT
END:VCALENDAR