BEGIN:VCALENDAR
VERSION:2.0
PRODID:-//ExpressionEngine Easy iCalendar plugin//NONSGML v1.1.1//EN
BEGIN:VEVENT
UID:event
LOCATION:\, Hamilton Hall\, room 420
DTSTAMP:20210221T33700Z
DTSTART;TZID=America/New_York:20190923T183000
DTEND;TZID=America/New_York:
SUMMARY:In Conversation: Ryan RedCorn and Tiffany Hale
DESCRIPTION:CSER welcomes photographer & comedian Ryan RedCorn\, member o
 f the Osage tribe\, owner of Buffalo Nickel Creative\, and a m
 ember of the 1491s. Ryan and Tiffany Hale\, Ph.D. Assistant P
 rofessor\, Department of Religion at Barnard ask each other q
 uestions on the theme of photography\, narrative\, and represe
 ntations of Native American people.
END:VEVENT
END:VCALENDAR