BEGIN:VCALENDAR
VERSION:2.0
PRODID:-//ExpressionEngine Easy iCalendar plugin//NONSGML v1.1.1//EN
BEGIN:VEVENT
UID:event
LOCATION:The Heyman Center\, Second Floor Common Room
DTSTAMP:20210221T33500Z
DTSTART;TZID=America/New_York:20191122T120000
DTEND;TZID=America/New_York:
SUMMARY:Medical Humanities Synapsis Writers Retreat
DESCRIPTION:As a set of disciplines\, the humanities face the challenge o
 f how to write about embodied experiences that resist easy v
 erbal categorization such as illness\, pain\, and healing. The
  recent emergence of interdisciplinary frameworks such as na
 rrative medicine has offered a set of methodological approac
 hes to address these challenges. Conceptualizing a field of 
 medical and health humanities offers a broad umbrella under 
 which to study the influence of medico-scientific ideas and 
 practices on society.  Whether by incorporating material cu
 lture such as medical artefacts\, performing symptomatic read
 ings of poems and novels\, or excavating the implicit medical
  assumptions underlying auditory cultures\, the approaches th
 at emerge from a historiographical or interpretive framework
  are different from those coming from the physician’s blac
 k bag.\n\nThe Explorations in the Medical Humanities Series ex
 plores the enigma of how what we write relates back to the e
 xperience of bodies in different stages of health and diseas
 e. Our speakers consider how the medical and health humaniti
 es build on and revise earlier notions of the “medical art
 s.”  At stake are the problems of representation and the
  interpretation of cultural products from the past and prese
 nt through medical models\, and the challenge of establishing
  a set of humanistic competencies (observation\, attention\, j
 udgment\, narrative\, historical perspective\, ethics\, creativi
 ty) that can inform medical practice.
END:VEVENT
END:VCALENDAR