BEGIN:VCALENDAR
VERSION:2.0
PRODID:-//ExpressionEngine Easy iCalendar plugin//NONSGML v1.1.1//EN
BEGIN:VEVENT
UID:event
LOCATION:Butler Library\, Room 523
DTSTAMP:20210221T33400Z
DTSTART;TZID=America/New_York:20191108T160000
DTEND;TZID=America/New_York:
SUMMARY:Women Mobilizing Memory: Book Launch
DESCRIPTION:CSSD working group Women Mobilizing Memory will be celebrati
 ng the recent publication of their eponymous book Women Mobi
 lizing Memory with a reception and brief presentations from 
 some of the book’s contributors.
END:VEVENT
END:VCALENDAR