BEGIN:VCALENDAR
VERSION:2.0
PRODID:-//ExpressionEngine Easy iCalendar plugin//NONSGML v1.1.1//EN
BEGIN:VEVENT
UID:event
LOCATION:East Gallery\, Maison Francaise (Buell Hall)
DTSTAMP:20210221T33700Z
DTSTART;TZID=America/New_York:20191203T180000
DTEND;TZID=America/New_York:
SUMMARY:Southern Crossings: Composition and Collaboration
DESCRIPTION:Southern Crossings: Composition and Collaboration: A convers
 ation with composer Zaid Jabri\, and librettists\, Yvette Chri
 stiansë and Rosalind Morris
END:VEVENT
END:VCALENDAR