BEGIN:VCALENDAR
VERSION:2.0
PRODID:-//ExpressionEngine Easy iCalendar plugin//NONSGML v1.1.1//EN
BEGIN:VEVENT
UID:event
LOCATION:\, Columbia University Global Center Rio de Janeiro
DTSTAMP:20210221T33200Z
DTSTART;TZID=America/New_York:20191210T90000
DTEND;TZID=America/New_York:20191212T000000
SUMMARY:Transatlantic Crises of Democracies: Cultural Approaches
DESCRIPTION:This symposium is one of several discussions on the anxietie
 s and existential challenges currently facing democratic soc
 ieties hosted by members of the Global Humanities Institute 
 on the Crises of Democracy\, a project of the Consortium of H
 umanities Centers and Institutes.Â  Previous gatherings (inc
 luding a weeklong summer school in Dubrovnik in summer 2019)
 Â have been held at the SOF/Heyman\, Columbiaâ€™sÂ Reid HallÂ
  in Paris\, andÂ Trinity College Dublin.Â Â 
END:VEVENT
END:VCALENDAR