BEGIN:VCALENDAR
VERSION:2.0
PRODID:-//ExpressionEngine Easy iCalendar plugin//NONSGML v1.1.1//EN
BEGIN:VEVENT
UID:event
LOCATION:The Heyman Center\, Second Floor Common Room
DTSTAMP:20210221T32700Z
DTSTART;TZID=America/New_York:20200310T170000
DTEND;TZID=America/New_York:
SUMMARY:The New Humanities Faculty Salons - CANCELLED
DESCRIPTION:Please join Division of Humanities Dean Sarah Cole in welcom
 ing our newest colleagues from across the division.  Hosted
  by the Division of Humanities in the Arts and Sciences an
 d co-sponsored by the Society of Fellows and Heyman Center 
 for the Humanities\, the New Humanities Faculty Salons are 
 an opportunity to meet the six new faculty members joining C
 olumbia during the 2019-20 school year.  They will share th
 eir new research over drinks and snacks\, opening conversatio
 ns across the wider Humanities community.  All interested 
 faculty and graduate students are encouraged to attend. 
END:VEVENT
END:VCALENDAR