BEGIN:VCALENDAR
VERSION:2.0
PRODID:-//ExpressionEngine Easy iCalendar plugin//NONSGML v1.1.1//EN
BEGIN:VEVENT
UID:event
LOCATION:\, Virtual Event from 2:15pm - 3:15pm EST
DTSTAMP:20210221T32800Z
DTSTART;TZID=America/New_York:20201214T141500
DTEND;TZID=America/New_York:
SUMMARY:Celebrating Recent Work by Justin Clarke-Doane
DESCRIPTION:New Books in the Arts & Sciences:\n\nCelebrating Recent Work b
 y Justin Clarke-Doane
END:VEVENT
END:VCALENDAR