BEGIN:VCALENDAR
VERSION:2.0
PRODID:-//ExpressionEngine Easy iCalendar plugin//NONSGML v1.1.1//EN
BEGIN:VEVENT
UID:event
LOCATION:\, Virtual Event from 5:00pm - 6:00pm EDT
DTSTAMP:20210221T33800Z
DTSTART;TZID=America/New_York:20201027T170000
DTEND;TZID=America/New_York:
SUMMARY:Celebrating Recent Work by Deborah Paredez
DESCRIPTION:New Books in the Arts & Sciences:\n\nCelebrating Recent Work b
 y Deborah Paredez
END:VEVENT
END:VCALENDAR