BEGIN:VCALENDAR
VERSION:2.0
PRODID:-//ExpressionEngine Easy iCalendar plugin//NONSGML v1.1.1//EN
BEGIN:VEVENT
UID:event
LOCATION:The Forum (601 W. 125th St)
DTSTAMP:20210221T33100Z
DTSTART;TZID=America/New_York:20200121T180000
DTEND;TZID=America/New_York:
SUMMARY:Sexual Citizens: A Landmark Study of Sex\, Power\, & Assault o
 n Campus
DESCRIPTION:Through a bracing look into undergraduate social life\, sexua
 l relationships\, and campus power dynamics\, the authors tran
 sform how we see and address the most misunderstood problem 
 on college campuses: widespread sexual assault.
END:VEVENT
END:VCALENDAR