BEGIN:VCALENDAR
VERSION:2.0
PRODID:-//ExpressionEngine Easy iCalendar plugin//NONSGML v1.1.1//EN
BEGIN:VEVENT
UID:event
LOCATION:\, Maison Francaise
DTSTAMP:20210221T33500Z
DTSTART;TZID=America/New_York:20200210T183000
DTEND;TZID=America/New_York:
SUMMARY:Martha Graham’s Cold War: the Dance of American Diplomacy
DESCRIPTION:Book launch and panel discussion for Martha Graham’s Cold 
 War: The Dance of American Diplomacy by Victoria Phillips
END:VEVENT
END:VCALENDAR