BEGIN:VCALENDAR
VERSION:2.0
PRODID:-//ExpressionEngine Easy iCalendar plugin//NONSGML v1.1.1//EN
BEGIN:VEVENT
UID:event
LOCATION:Barnard Hall\, Event Oval\, The Diana Center\, 3009 Broadway\, N
 ew York\, NY
DTSTAMP:20210221T33400Z
DTSTART;TZID=America/New_York:20200211T183000
DTEND;TZID=America/New_York:
SUMMARY:Critical Caribbean Feminisms: Staceyann Chin and Alexis Paul
 ine Gumbs
DESCRIPTION:Staceyann Chin and Alexis Pauline Gumbs will be joined in co
 nversation with Kaiama L. Glover (Ann Whitney Olin Professor
  of French and Africana Studies\, Barnard College). 
END:VEVENT
END:VCALENDAR