BEGIN:VCALENDAR
VERSION:2.0
PRODID:-//ExpressionEngine Easy iCalendar plugin//NONSGML v1.1.1//EN
BEGIN:VEVENT
UID:event
LOCATION:\, Maison Francaise
DTSTAMP:20210221T33800Z
DTSTART;TZID=America/New_York:20200204T183000
DTEND;TZID=America/New_York:
SUMMARY:Splicing cultures: Xiaolu Guo on novels and filmmaking
DESCRIPTION:Xiaolu Guo presents her work in words and film\, and draws co
 nnections to her own life\, in conversation with Carol Gluck.
  Xiaolu Guo is a British Chinese novelist\, essayist and film
 maker. Her memoir\, Nine Continents\, received the National B
 ook Critics Circle Award for Autobiography in 2017.
END:VEVENT
END:VCALENDAR