BEGIN:VCALENDAR
VERSION:2.0
PRODID:-//ExpressionEngine Easy iCalendar plugin//NONSGML v1.1.1//EN
BEGIN:VEVENT
UID:event
LOCATION:Columbia Global Center\, Paris
DTSTAMP:20210221T32900Z
DTSTART;TZID=America/New_York:20200115T190000
DTEND;TZID=America/New_York:
SUMMARY:8/13 | LA SOCIÉTÉ D’EXPOSITION (LE SEUIL 2020)
DESCRIPTION:In Critique 13/13\, we turn to 13 critical texts—ranging fr
 om Althusser\, Beauvoir\, Foucault\, and Freire to Adorno\, Aren
 dt\, Sartre\, Lorde\, and Said. 
END:VEVENT
END:VCALENDAR