BEGIN:VCALENDAR
VERSION:2.0
PRODID:-//ExpressionEngine Easy iCalendar plugin//NONSGML v1.1.1//EN
BEGIN:VEVENT
UID:event
LOCATION:
DTSTAMP:20210221T32800Z
DTSTART;TZID=America/New_York:20200429T181500
DTEND;TZID=America/New_York:
SUMMARY:13/13 | W.E.B. DU BOIS\, DARKWATER: VOICES FROM WITHIN THE VE
 IL - CANCELLED
DESCRIPTION:In Critique 13/13\, we turn to 13 critical texts—ranging fr
 om Althusser\, Beauvoir\, Foucault\, and Freire to Adorno\, Aren
 dt\, Sartre\, Lorde\, and Said.
END:VEVENT
END:VCALENDAR