BEGIN:VCALENDAR
VERSION:2.0
PRODID:-//ExpressionEngine Easy iCalendar plugin//NONSGML v1.1.1//EN
BEGIN:VEVENT
UID:event
LOCATION:\, Virtual Event at 6:00pm - 7:00pm EDT
DTSTAMP:20210221T33400Z
DTSTART;TZID=America/New_York:20200915T180000
DTEND;TZID=America/New_York:
SUMMARY:Book Launch for Testosterone: An Unauthorized Biography
DESCRIPTION:Book Launch for Testosterone: An Unauthorized Biography\, b
 y Rebecca M. Jordan-Young and Katrina Karkazis\, with a resp
 onse by Evelynn Hammonds
END:VEVENT
END:VCALENDAR