BEGIN:VCALENDAR
VERSION:2.0
PRODID:-//ExpressionEngine Easy iCalendar plugin//NONSGML v1.1.1//EN
BEGIN:VEVENT
UID:event
LOCATION:\, Wood Auditorium\, Graduate School of Architecture Planning 
 and Preservation
DTSTAMP:20210221T32800Z
DTSTART;TZID=America/New_York:20200401T170000
DTEND;TZID=America/New_York:
SUMMARY:“Not in My Neighborhood:” Film Screening and Round Table
  - CANCELLED
DESCRIPTION:Award-winning director Kurt Orderson and co-producer Najma
  Nuriddin will participate in a panel discussion following 
 a screening of “Not in Our Neighborhood” (2018)\, an awa
 rd-winning documentary on the intergenerational stories of 
 how ordinary citizens respond to the policies\, process\, and 
 institutions driving contemporary forms of spatial violence 
 and gentrification in São Paulo\, Cape Town\, and New York.
  In telling these contemporary urban stories through the 
 activist voices that are emerging to reclaim the right to sh
 elter\, the film offers a global critique on the current pol
 itics of space and casts the so-called Global South as parti
 cularly radical in offering modes of resistance to the soci
 al injustices afforded by the built environment.
END:VEVENT
END:VCALENDAR