BEGIN:VCALENDAR
VERSION:2.0
PRODID:-//ExpressionEngine Easy iCalendar plugin//NONSGML v1.1.1//EN
BEGIN:VEVENT
UID:event
LOCATION:Butler Library\, Butler 523
DTSTAMP:20210221T33200Z
DTSTART;TZID=America/New_York:20200205T180000
DTEND;TZID=America/New_York:
SUMMARY:Popular Kinematics: Book History Colloquium
DESCRIPTION:Media historian Lisa Gitelman considers the history and orga
 nization of knowledge through the biography of Henry T. Brow
 n’s 1868 book 507 Mechanical Movements
END:VEVENT
END:VCALENDAR