BEGIN:VCALENDAR
VERSION:2.0
PRODID:-//ExpressionEngine Easy iCalendar plugin//NONSGML v1.1.1//EN
BEGIN:VEVENT
UID:event
LOCATION:New York University Kimmel Center for University Life
DTSTAMP:20210221T32700Z
DTSTART;TZID=America/New_York:20200327T90000
DTEND;TZID=America/New_York:20200329T000000
SUMMARY:Palestine Writes Literature Festival - CANCELLED
DESCRIPTION:Palestine Writes will be the first major festival dedicated 
 to the celebration of Palestinian literature in the United S
 tates. In New York City\, from March 27-29th\, 2020\, Palestine
  Writes will bring together writers\, artists\, publishers\, bo
 oksellers\, and scholars to hold conversations about art\, lit
 erature\, and the intersections between culture\, struggle\, an
 d politics.
END:VEVENT
END:VCALENDAR