BEGIN:VCALENDAR
VERSION:2.0
PRODID:-//ExpressionEngine Easy iCalendar plugin//NONSGML v1.1.1//EN
BEGIN:VEVENT
UID:event
LOCATION:\, Online Event
DTSTAMP:20210221T33800Z
DTSTART;TZID=America/New_York:20200810T180000
DTEND;TZID=America/New_York:
SUMMARY:Disconnected River: A Public Humanities Walk of the Harlem R
 iver
DESCRIPTION:Originally scheduled as an in-person walk to explore the his
 tory of the Harlem River and celebrate the 50th anniversary 
 of Earth Day\, this Digital Harlem River Walk has been resche
 duled to take place over Zoom at 6pm on Monday\, August 10th
 .  With a discussion led by Scot McFarlane\, this walk will
  feature the photography of Nathan Kensinger and Duane Ba
 iley-Castro. 
END:VEVENT
END:VCALENDAR