BEGIN:VCALENDAR
VERSION:2.0
PRODID:-//ExpressionEngine Easy iCalendar plugin//NONSGML v1.1.1//EN
BEGIN:VEVENT
UID:event
LOCATION:\, Online Event
DTSTAMP:20210221T33000Z
DTSTART;TZID=America/New_York:20200501T150000
DTEND;TZID=America/New_York:
SUMMARY:Care for the Polis: Cities\, Health\, and the Humanities
DESCRIPTION:Care for the Polis is an online conference that exists in a
  multi-temporal and virtual space. The conference is designe
 d to reimagine how medical humanities and public humanities 
 shape\, and are shaped by\, the city and its diverse publics. 
 In a series of weekly Z-Panels\, our invited speakers will di
 scuss the effects of health on the conception of cities and 
 publics—including\, in the context of pandemic\, the foreclo
 sure of public space and what it means to become an online y
 et domestic-bound public. Together\, we will address emerging
  concerns such as economic impact and recovery\, domesticity 
 and democracy\, public care and public reconstruction.
END:VEVENT
END:VCALENDAR