BEGIN:VCALENDAR
VERSION:2.0
PRODID:-//ExpressionEngine Easy iCalendar plugin//NONSGML v1.1.1//EN
BEGIN:VEVENT
UID:event
LOCATION:\, Lenfest Center for the Arts\, Katharina Otto-Bernstein Scre
 ening Room (Second Floor)
DTSTAMP:20210221T32800Z
DTSTART;TZID=America/New_York:20200129T183000
DTEND;TZID=America/New_York:
SUMMARY:Complex Issues: The Assistant
DESCRIPTION:The Assistant follows one day in the life of Jane (Julia Gar
 ner)\, a recent college graduate and aspiring film producer\, 
 who has recently landed her dream job as a junior assistant 
 to a powerful entertainment mogul. Her day is much like any 
 other assistant's—making coffee\, changing the paper in the
  copy machine\, ordering lunch\, arranging travel\, taking phon
 e messages\, onboarding a new hire. But as Jane follows her d
 aily routine\, she\, and we\, grow increasingly aware of the ab
 use that insidiously colors every aspect of her work day\, an
  accumulation of degradations against which Jane decides to 
 take a stand\, only to discover the true depth of the system 
 into which she has entered.
END:VEVENT
END:VCALENDAR