BEGIN:VCALENDAR
VERSION:2.0
PRODID:-//ExpressionEngine Easy iCalendar plugin//NONSGML v1.1.1//EN
BEGIN:VEVENT
UID:event
LOCATION:Pulitzer Hall (formerly Journalism Hall)\, Joseph D. Jamail L
 ecture Hall
DTSTAMP:20210221T32700Z
DTSTART;TZID=America/New_York:20200326T181500
DTEND;TZID=America/New_York:
SUMMARY:Bernardine Evaristo and Marlon James—in conversation - CAN
 CELLED
DESCRIPTION:Bernardine Evaristo and Marlon James\, two celebrated authors
  who have recently won the Man Booker Prize\, join Kaiama Gl
 over in conversation. 
END:VEVENT
END:VCALENDAR