BEGIN:VCALENDAR
VERSION:2.0
PRODID:-//ExpressionEngine Easy iCalendar plugin//NONSGML v1.1.1//EN
BEGIN:VEVENT
UID:event
LOCATION:The Heyman Center\, Second Floor Common Room
DTSTAMP:20210221T33800Z
DTSTART;TZID=America/New_York:20200226T120000
DTEND;TZID=America/New_York:
SUMMARY:Extinction Thresholds Symposium
DESCRIPTION:As both a conceptual category with purchase across academic 
 discourses and a material reality at once hyperpresent and h
 istorically entrenched\, “extinction” is a rich site for 
 timely interdisciplinary interventions. This event brings to
 gether a group of writers and scholars whose work explores e
 xtinction—both human and nonhuman—at its critical inters
 ections with gender\, sexuality\, and race. Our speakers will 
 take up questions related to the literary\, political\, ethica
 l and ontological dimensions of extinctions past\, present an
 d future. Among other topics\, we will discuss the centrality
  of extinction to the making of colonial America\; the entang
 lement of environmental imperialism and indigenous oppressio
 n\; the representation of Black precarity in post-apocalyptic
  speculative fiction\; and the prospect of mothering at the e
 nd of the world.
END:VEVENT
END:VCALENDAR