BEGIN:VCALENDAR
VERSION:2.0
PRODID:-//ExpressionEngine Easy iCalendar plugin//NONSGML v1.1.1//EN
BEGIN:VEVENT
UID:event
LOCATION:The Heyman Center\, Second Floor Common Room
DTSTAMP:20210221T32900Z
DTSTART;TZID=America/New_York:20200428T181500
DTEND;TZID=America/New_York:
SUMMARY:M. R. James: The Demon in the Library - CANCELLED
DESCRIPTION:Widely recognized during his own lifetime as the pre-eminent
  Anglophone codicologist\, M. R. James spent much of his life
  in libraries.  His scholarly output\, over a period of some
  forty years\, was prodigious\, and at the heart of it is the 
 series of descriptive catalogues he produced of the manuscri
 pt holdings of various libraries and collections.  He also 
 wrote ghost stories\, as a kind of imaginative surplus or byp
 roduct of the formal scholarship\, to which they are intimate
 ly connected.  This talk will discuss James’s many librar
 ies\, and the horrible things he found lurking in them.
END:VEVENT
END:VCALENDAR