BEGIN:VCALENDAR
VERSION:2.0
PRODID:-//ExpressionEngine Easy iCalendar plugin//NONSGML v1.1.1//EN
BEGIN:VEVENT
UID:event
LOCATION:\, Lenfest Center for the Arts
DTSTAMP:20210221T32700Z
DTSTART;TZID=America/New_York:20200213T183000
DTEND;TZID=America/New_York:
SUMMARY:Water\, Sound and Indigenous Film: Antonio and Piti
DESCRIPTION:The Amônia River runs near the border of Brazil and Peru\,
  where both indigenous Ashaninka people and white settlers l
 ive in the municipality of Marechal Thaumaturgo. Produced b
 y the Vídeo nas Aldeias collective\, Antonio and Piti exp
 lores the love between a Peruvian-born indigenous man and 
 the daughter of Chico Coló\, a white rubber tapper soldier
 . The film tells the story of their community-led reforestat
 ion project and the pressures of a predatory and extractive
  economy
END:VEVENT
END:VCALENDAR