BEGIN:VCALENDAR
VERSION:2.0
PRODID:-//ExpressionEngine Easy iCalendar plugin//NONSGML v1.1.1//EN
BEGIN:VEVENT
UID:event
LOCATION:\, Center for Ethnomusicology\, 701C Dodge Hall
DTSTAMP:20210221T33700Z
DTSTART;TZID=America/New_York:20200305T90000
DTEND;TZID=America/New_York:20200306T000000
SUMMARY:Music and Migration Conference
DESCRIPTION:Co-organized by Alessandra Ciucci (Department of Music) an
 d Ana María Ochoa (Department of Music)
END:VEVENT
END:VCALENDAR