BEGIN:VCALENDAR
VERSION:2.0
PRODID:-//ExpressionEngine Easy iCalendar plugin//NONSGML v1.1.1//EN
BEGIN:VEVENT
UID:event
LOCATION:The Heyman Center\, Second Floor Common Room
DTSTAMP:20210221T33300Z
DTSTART;TZID=America/New_York:20200507T80000
DTEND;TZID=America/New_York:20200508T000000
SUMMARY:On the Possibility and Impossibility of Reparations for Slav
 ery and Colonialism - CANCELLED
DESCRIPTION:In recent years\, demands for historical justice have intensi
 fied in several national contexts in the form of claims to r
 ight the historical wrongs of European colonialism and the t
 ransatlantic slave trade by means of reparations. These dema
 nds have primarily been met with skepticism and distrust fro
 m national governments and a number of sections of civil soc
 iety. In a context of growing grassroots activism primarily 
 from black and indigenous communities around the world\, an i
 ncreasing number of political representatives are neverthele
 ss starting to come out in support of material reparations. 
 Reparations for the racialized descendants of European colon
 ialism and transatlantic slavery is now a conversation in bo
 th  Global North and Global South in a potentially unpreced
 ented manner.
END:VEVENT
END:VCALENDAR