BEGIN:VCALENDAR
VERSION:2.0
PRODID:-//ExpressionEngine Easy iCalendar plugin//NONSGML v1.1.1//EN
BEGIN:VEVENT
UID:event
LOCATION:The Heyman Center\, Second Floor Common Room
DTSTAMP:20210221T32800Z
DTSTART;TZID=America/New_York:20200327T180000
DTEND;TZID=America/New_York:20200328T000000
SUMMARY:Global Reparations Conference - CANCELLED
DESCRIPTION:This symposium on “Global Reparations” seeks to connect 
 conversations about reparation\, repair and redress across d
 iscrete histories of enslavement\, outcasting\, apartheid\, and
  intimate violence to ask how social suffering is shaped by
  imperial violence and extractive regimes.
END:VEVENT
END:VCALENDAR