BEGIN:VCALENDAR
VERSION:2.0
PRODID:-//ExpressionEngine Easy iCalendar plugin//NONSGML v1.1.1//EN
BEGIN:VEVENT
UID:event
LOCATION:International Affairs Building\, The Kellogg Center\, Room 150
 1
DTSTAMP:20210221T33000Z
DTSTART;TZID=America/New_York:20200304T181500
DTEND;TZID=America/New_York:
SUMMARY:Celebrating Recent Work by Rashid Khalidi
DESCRIPTION:New Books in the Arts & Sciences:\n\nCelebrating Recent Work b
 y Rashid Khalidi
END:VEVENT
END:VCALENDAR