BEGIN:VCALENDAR
VERSION:2.0
PRODID:-//ExpressionEngine Easy iCalendar plugin//NONSGML v1.1.1//EN
BEGIN:VEVENT
UID:event
LOCATION:Butler Library\, Room 523
DTSTAMP:20210221T33600Z
DTSTART;TZID=America/New_York:20200423T90000
DTEND;TZID=America/New_York:20200424T000000
SUMMARY:Contextualizing Prokofiev: The Interwar Years and their Lega
 cy - CANCELLED
DESCRIPTION:"Contextualizing Prokofiev: The Interwar Years and their Leg
 acy" investigates the cultural\, historical\, and political co
 ntexts that defined composer Serge Prokofiev’s years in em
 igration (1918-1936)\, and their impact on his subsequent car
 eer and legacy. On Thursday April 23\, music historian Richar
 d Taruskin (UC Berkeley) will present a keynote talk “Prok
 ofiev’s Problems– and Ours” where he will discuss the 
 musical and personal implications of Prokofiev’s return to
  the Soviet Union in 1936.  On Friday April 24 there will 
 be a day-long scholarly symposium featuring international mu
 sicology experts.
END:VEVENT
END:VCALENDAR