BEGIN:VCALENDAR
VERSION:2.0
PRODID:-//ExpressionEngine Easy iCalendar plugin//NONSGML v1.1.1//EN
BEGIN:VEVENT
UID:event
LOCATION:Maison Francaise
DTSTAMP:20210221T32700Z
DTSTART;TZID=America/New_York:20200402T183000
DTEND;TZID=America/New_York:
SUMMARY:UFO IN HER EYES: Film screening and discussion with director
  Xiaolu Guo - CANCELLED
DESCRIPTION:One hot afternoon\, the life of a Chinese village woman abrup
 tly changes when she believes that she has just witnessed a 
 UFO flying through the sky. The village chief takes advantag
 e of this unexpected event to boost the poverty-stricken loc
 al economy – to stimulate tourism\, get government support\,
  and even make contact with the USA. Under a scrutinizing po
 lice eye\, a collective portrait unfolds ... Partly inspired 
 by Kafka’s The Metamorphosis\, and Kurosawa’s Rashomon\,
  the film portrays the lives of ordinary individuals dealing
  with radical political changes in a chaotic contemporary Ch
 inese society.
END:VEVENT
END:VCALENDAR