BEGIN:VCALENDAR
VERSION:2.0
PRODID:-//ExpressionEngine Easy iCalendar plugin//NONSGML v1.1.1//EN
BEGIN:VEVENT
UID:event
LOCATION:Schermerhorn Hall\, Department of Art History and Archeology
DTSTAMP:20210221T33300Z
DTSTART;TZID=America/New_York:20200424T130000
DTEND;TZID=America/New_York:20200424T200000
SUMMARY:Art and Pedagogy in the Carceral System - CANCELLED
DESCRIPTION:A day of workshops with scholars\, artists\, students\, curator
 s\, and educators who are working to bridge arts education an
 d incarceration and\, in the process\, render visible the hidd
 en histories of mass incarceration and radicalize arts peda
 gogies for a more just society. 
END:VEVENT
END:VCALENDAR