BEGIN:VCALENDAR
VERSION:2.0
PRODID:-//ExpressionEngine Easy iCalendar plugin//NONSGML v1.1.1//EN
BEGIN:VEVENT
UID:event
LOCATION:\, Online Event
DTSTAMP:20210221T32900Z
DTSTART;TZID=America/New_York:20200422T163000
DTEND;TZID=America/New_York:
SUMMARY:The Duchess of Angus with Jenny Davidson and Kaiama L. Glove
 râ€”Online Event
DESCRIPTION:Written in the 1950s and discovered by family members years 
 after her death\, Margaret Brown Kilikâ€™s shocking coming-of
 -age novel of the emotional and sexual brutality of young wo
 menâ€™s lives in wartime San Antonio deserves a place on the
  shelf alongside classic novels like Sylvia Plathâ€™sÂ The B
 ell JarÂ and Carson McCullersâ€™sÂ The Member of the Wedding
 .Â The Duchess of AngusÂ reworks Kilikâ€™s unusual personal 
 history (her mother spent the 1930s running flophouse hotels
  all over the United States\, leaving Margaret to be brought 
 up by a host of relatives) into a riveting portrait of a you
 ng woman navigating a conflicted and rapidly changing world\,
  one in which sex promises both freedom from convention and 
 violent subjection to menâ€™s will. Strikingly modern in its
  depiction of protagonist Jane Davis and her gorgeous\, unrea
 dable friend Wade Howell\,Â The Duchess of AngusÂ covers some
  of the same emotional territory as novels like Emma Clineâ€
 ™sÂ The GirlsÂ and Robyn Wassermanâ€™sÂ Girls on Fire.
END:VEVENT
END:VCALENDAR