BEGIN:VCALENDAR
VERSION:2.0
PRODID:-//ExpressionEngine Easy iCalendar plugin//NONSGML v1.1.1//EN
BEGIN:VEVENT
UID:event
LOCATION:Lenfest Center for the Arts\, Katharina Otto-Bernstein Screen
 ing Room
DTSTAMP:20210221T33500Z
DTSTART;TZID=America/New_York:20200407T183000
DTEND;TZID=America/New_York:
SUMMARY:Max Ritvo Poetry Series: Featuring Louise Glück - CANCELLED
DESCRIPTION:Louise Glück is the author of many books of poetry\, includ
 ing The Triumph of Achilles\, which won the National Book Cri
 tics Circle Award\, and The Wild Iris\, which was awarded the 
 Pulitzer Prize. Her most recent collection\, Faithful and Vir
 tuous Night\, received the National Book Award. She is also t
 he author of two books of essays\, American Originality and P
 roofs and Theories\, winner of the 1993 PEN/Martha Albrand Aw
 ard for First Non-Fiction. The recipient of many other award
 s and distinctions\, including the Wallace Stevens Award\, the
  Bollingen Prize\, the National Humanities Medal\, and the Uni
 ted States Poet Laureateship from 2003–2004\, Glück curren
 tly teaches at Yale University\, where she is the Rosencranz 
 Writer in Residence. She lives in Cambridge. 
END:VEVENT
END:VCALENDAR