BEGIN:VCALENDAR
VERSION:2.0
PRODID:-//ExpressionEngine Easy iCalendar plugin//NONSGML v1.1.1//EN
BEGIN:VEVENT
UID:event
LOCATION:\, Online Event (Zoom Details Below)
DTSTAMP:20210221T32800Z
DTSTART;TZID=America/New_York:20200417T130000
DTEND;TZID=America/New_York:
SUMMARY:Big Pharma and the Opioid Epidemic: Buying Its Way Out of Ac
 countability? - Online Event
DESCRIPTION:Join us for an online conversation with Chris McGreal\, autho
 r of "American Overdose: The Opioid Tragedy in Three Acts"
END:VEVENT
END:VCALENDAR