BEGIN:VCALENDAR
VERSION:2.0
PRODID:-//ExpressionEngine Easy iCalendar plugin//NONSGML v1.1.1//EN
BEGIN:VEVENT
UID:event
LOCATION:\, Online Event (Zoom Details Below) at 2:30pm (New York)
DTSTAMP:20210221T33000Z
DTSTART;TZID=America/New_York:20200427T143000
DTEND;TZID=America/New_York:
SUMMARY:Behind the Headlines: Democracy in an Age of Pandemic
DESCRIPTION:Social distancing\, cocooning\, and ‘lockdown’ measures im
 plemented worldwide to stall the spread of Covid-19 have rai
 sed questions about what the absence of public life means fo
 r democracy. We have also seen a range of emergency powers i
 ntroduced by governments trying to manage social order durin
 g this time. Our international panel will discuss the politi
 cs and policies of disease prevention and control\, how the a
 bsence of public life might impact on those on the margins o
 f our societies\, and what we might learn from plague and dem
 ocracy in classical Greece.
END:VEVENT
END:VCALENDAR