BEGIN:VCALENDAR
VERSION:2.0
PRODID:-//ExpressionEngine Easy iCalendar plugin//NONSGML v1.1.1//EN
BEGIN:VEVENT
UID:event
LOCATION:\, Online Event\; 11:30am (New York)
DTSTAMP:20210221T33500Z
DTSTART;TZID=America/New_York:20200429T113000
DTEND;TZID=America/New_York:
SUMMARY:Nations and Borders
DESCRIPTION:The first in a five-part series\, this workshop will explore 
 how Covid-19 is changing how we think about nations and bord
 ers. Our speakers will discuss the pandemic in relation to U
 S immigration law\, border politics and international refugee
  policy. They will examine the crisis in the context of Iris
 h/Northern Irish cross-border cooperation and British-Irish 
 cooperation. The floor will then be open for participants to
  respond: to ask questions and to widen the conceptual and g
 eographical parameters of the conversation.
END:VEVENT
END:VCALENDAR