BEGIN:VCALENDAR
VERSION:2.0
PRODID:-//ExpressionEngine Easy iCalendar plugin//NONSGML v1.1.1//EN
BEGIN:VEVENT
UID:event
LOCATION:\, Online Event\; 11:30am (New York)
DTSTAMP:20210221T33800Z
DTSTART;TZID=America/New_York:20200513T113000
DTEND;TZID=America/New_York:
SUMMARY:Inequality
DESCRIPTION:The third in a five-part series\, this workshop will interrog
 ate the role of inequality in the Covid-19 public health eme
 rgency. Our speakers will explore issues related to class\, g
 ender\, race\, sexuality and religion as well as attempts to a
 ssign blame and scapegoat. Looking to the future\, they will 
 also discuss the need for a broad project of and commitment 
 to equality. The floor will then be open for participants to
  respond: to ask questions and to widen the parameters of th
 e conversation.
END:VEVENT
END:VCALENDAR