BEGIN:VCALENDAR
VERSION:2.0
PRODID:-//ExpressionEngine Easy iCalendar plugin//NONSGML v1.1.1//EN
BEGIN:VEVENT
UID:event
LOCATION:\, Online Event\; 11:30am (New York)
DTSTAMP:20210221T33100Z
DTSTART;TZID=America/New_York:20200520T113000
DTEND;TZID=America/New_York:
SUMMARY:The Everyday
DESCRIPTION:The fourth in a five-part series\, this workshop will examine
  the implications of the Covid-19 on the everyday. Our speak
 ers will discuss their daily lockdown routines\, how their wo
 rk has been shaped by the pandemic and why walking is a supe
 rpower. The floor will then be open for participants to resp
 ond: to ask questions and to widen the parameters of the con
 versation.
END:VEVENT
END:VCALENDAR