BEGIN:VCALENDAR
VERSION:2.0
PRODID:-//ExpressionEngine Easy iCalendar plugin//NONSGML v1.1.1//EN
BEGIN:VEVENT
UID:event
LOCATION:\, Online Event\; 11:30am (New York)
DTSTAMP:20210221T33900Z
DTSTART;TZID=America/New_York:20200527T113000
DTEND;TZID=America/New_York:
SUMMARY:Democracy Without A Public Sphere
DESCRIPTION:As large gatherings of people are prohibited under the measu
 res introduced to prevent the spread of Covid-19\, for many t
 he established means of debate and protest have been constra
 ined. At the same time\, decision-making processes are increa
 singly opaque. For those historically marginalised\, civic en
 gagement is becoming even more difficult. The pandemic is cr
 eating new difficulties for democracies while exposing chron
 ic\, long-term challenges.
END:VEVENT
END:VCALENDAR