BEGIN:VCALENDAR
VERSION:2.0
PRODID:-//ExpressionEngine Easy iCalendar plugin//NONSGML v1.1.1//EN
BEGIN:VEVENT
UID:event
LOCATION:\, Online Event\; 3:00pm (New York)
DTSTAMP:20210221T33200Z
DTSTART;TZID=America/New_York:20200514T150000
DTEND;TZID=America/New_York:
SUMMARY:Care For The Polis: Forms of Urban and Medical Exclusion
DESCRIPTION:Leslie Topp\, From Seclusion to Self-Isolation: Uses and Per
 ils of the Single Room\n\nAlexandre White\, Epidemic Imaginari
 es: Disease and the Redrawing of the Polis
END:VEVENT
END:VCALENDAR