BEGIN:VCALENDAR
VERSION:2.0
PRODID:-//ExpressionEngine Easy iCalendar plugin//NONSGML v1.1.1//EN
BEGIN:VEVENT
UID:event
LOCATION:\, Online Event\; 3:00pm (New York)
DTSTAMP:20210221T33000Z
DTSTART;TZID=America/New_York:20200528T150000
DTEND;TZID=America/New_York:
SUMMARY:Care For The Polis: Urban Infrastructures of Violence
DESCRIPTION:Jonathan Metzl\, Dying of Whiteness: How the Politics of Rac
 ial Resentment is Killing America's Heartland
END:VEVENT
END:VCALENDAR