BEGIN:VCALENDAR
VERSION:2.0
PRODID:-//ExpressionEngine Easy iCalendar plugin//NONSGML v1.1.1//EN
BEGIN:VEVENT
UID:event
LOCATION:\, Online Event\; 11:30am (New York)
DTSTAMP:20210221T33900Z
DTSTART;TZID=America/New_York:20200506T113000
DTEND;TZID=America/New_York:
SUMMARY:Marginalized Groups
DESCRIPTION:The second in a five-part series\, this workshop will explore
  how Covid-19 is affecting those on the margins of society. 
 Our speakers will discuss the pandemic in relation to crimin
 al justice systems and examine issues concerning ageism\, the
  care sector and economic policy. They will address the pote
 ntial human rights implications and consider how the virus m
 ight be used as an opportunity to change attitudes\, implemen
 t reform and build better\, more inclusive societies.The floo
 r will then be open for participants to respond: to ask ques
 tions and to widen the parameters of the conversation.
END:VEVENT
END:VCALENDAR