BEGIN:VCALENDAR
VERSION:2.0
PRODID:-//ExpressionEngine Easy iCalendar plugin//NONSGML v1.1.1//EN
BEGIN:VEVENT
UID:event
LOCATION:\, Online Event\; 4:00pm (New York)
DTSTAMP:20210221T32700Z
DTSTART;TZID=America/New_York:20200513T160000
DTEND;TZID=America/New_York:
SUMMARY:Building Publics: Humanities Combating Isolation: Audio Medi
 a and New Orientations in the Humanities
DESCRIPTION:Hosted by the Public Humanities Initiative at the Society o
 f Fellows and Heyman Center for the Humanities at Columbia U
 niversity\, this Zoominar features the projects developed by
  our 2019-2020 Public Humanities Graduate Student Fellows ov
 er the course of the past year\, followed by discussion with 
 fellow scholars\, community members\, and civic partners. An i
 nterdisciplinary group of emerging scholars\, these Public Hu
 manities Fellows have worked both together and independently
  to implement projects that bridge humanistic thinking with 
 civic engagement and social justice\, scholarly research with
  public building and communication. They will discuss how t
 heir projects promote humanistic thinking beyond the univers
 ity\, from different disciplinary perspectives and through a 
 variety of media\, such as audio media and podcast producing\,
  walking and mapping\, and curatorial and pedagogical practic
 es aimed at serving under-resourced communities.  They will
  also discuss the origins of their projects in a commitment 
 to break out of academic silos\, the challenges they faced in
  the recent foreclosure of public spheres\, and their current
  thinking about the methods and urgency of the Public Humani
 ties in these critical times—both in the public sphere and
  in the context of higher education. 
END:VEVENT
END:VCALENDAR